BEGIN:VCALENDAR
VERSION:2.0
PRODID:-//NVTZ - ECPv6.15.14//NONSGML v1.0//EN
CALSCALE:GREGORIAN
METHOD:PUBLISH
X-ORIGINAL-URL:https://www.nvtz.nl
X-WR-CALDESC:Evenementen voor NVTZ
REFRESH-INTERVAL;VALUE=DURATION:PT1H
X-Robots-Tag:noindex
X-PUBLISHED-TTL:PT1H
BEGIN:VTIMEZONE
TZID:Europe/Amsterdam
BEGIN:DAYLIGHT
TZOFFSETFROM:+0100
TZOFFSETTO:+0200
TZNAME:CEST
DTSTART:20250330T010000
END:DAYLIGHT
BEGIN:STANDARD
TZOFFSETFROM:+0200
TZOFFSETTO:+0100
TZNAME:CET
DTSTART:20251026T010000
END:STANDARD
BEGIN:DAYLIGHT
TZOFFSETFROM:+0100
TZOFFSETTO:+0200
TZNAME:CEST
DTSTART:20260329T010000
END:DAYLIGHT
BEGIN:STANDARD
TZOFFSETFROM:+0200
TZOFFSETTO:+0100
TZNAME:CET
DTSTART:20261025T010000
END:STANDARD
BEGIN:DAYLIGHT
TZOFFSETFROM:+0100
TZOFFSETTO:+0200
TZNAME:CEST
DTSTART:20270328T010000
END:DAYLIGHT
BEGIN:STANDARD
TZOFFSETFROM:+0200
TZOFFSETTO:+0100
TZNAME:CET
DTSTART:20271031T010000
END:STANDARD
END:VTIMEZONE
BEGIN:VEVENT
DTSTART;TZID=Europe/Amsterdam:20260518T120000
DTEND;TZID=Europe/Amsterdam:20260518T131500
DTSTAMP:20260421T134951
CREATED:20260407T071427Z
LAST-MODIFIED:20260407T072338Z
UID:21963-1779105600-1779110100@www.nvtz.nl
SUMMARY:Lunchwebinar vernieuwde Governancecode Sociaal Werk in de praktijk
DESCRIPTION:Governance Colleges\n\n\nOp maandag 18 mei organiseren NVTZ\, Verdiwel en Sociaal Werk Nederland een lunchwebinar over de vernieuwde Governancecode Sociaal Werk. Bestuurders en toezichthouders die de code volgen of interesse hebben in de vernieuwde code\, kunnen zich aanmelden en krijgen inzicht in wat deze concreet betekent voor hun organisatie en rol. \n\n\n\nDe governancecode voor sociaalwerkorganisaties is recent herzien. In de vernieuwde code is meer aandacht voor vakmanschap en professionaliteit van medewerkers en vrijwilligers. Ook actuele thema’s hebben een duidelijke plek gekregen\, zoals digitale transformatie\, cybersecurity\, verantwoord datagebruik en duurzaamheid. De code is bovendien eenvoudiger opgezet en sluit beter aan bij de praktijk. \n\n\n\nWat betekent dit in de praktijk?\n\n\n\nTijdens het webinar gaat governance-expert Marjolein Sulter in op het belang van de vernieuwde code en de rol die deze speelt bij goed bestuur en effectief toezicht in het sociaal werk. Dimitri Horsthuis\, directeur-bestuurder bij Samenso en Lucas Middelhoff\, ervaren toezichthouder\, delen hoe zij de governancecode in toepassen en hoe de raad van toezicht daar actief bij betrokken kan worden. \n\n\n\nRuimte voor vragen en gesprek\n\n\n\nHet webinar biedt inzicht in de belangrijkste uitgangspunten van de code en laat zien waarom het belangrijk is om deze niet alleen te kennen\, maar ook bewust toe te passen in de dagelijkse praktijk van bestuur en toezicht. Er is ook ruimte om vragen te stellen en met elkaar in gesprek te gaan. \n\n\n\nPraktische informatie\n\n\n\n\nDatum: maandag 18 mei\n\n\n\nTijd: 12.00 – 13.15 uur\n\n\n\nDoelgroep: bestuurders en toezichthouders bij sociaalwerkorganisaties en eenieder die interesse in de governancecode sociaal werk heeft\n\n\n\n\n \n\n\n\n\n\nOver het event\n\n\n\n\n\n\n\n\n\n\nDeel dit event: \n\n\n\n\n\n\n\n\n\nMeld je aan
URL:https://www.nvtz.nl/agenda/lunchwebinar-vernieuwde-governancecode-sociaal-werk-in-de-praktijk/
LOCATION:Online
ATTACH;FMTTYPE=image/jpeg:https://www.nvtz.nl/wp-content/uploads/2022/07/Branchebijeenkomst.jpg
END:VEVENT
BEGIN:VEVENT
DTSTART;TZID=Europe/Amsterdam:20260616T170000
DTEND;TZID=Europe/Amsterdam:20260616T201500
DTSTAMP:20260421T134951
CREATED:20260417T132936Z
LAST-MODIFIED:20260417T132939Z
UID:22089-1781629200-1781640900@www.nvtz.nl
SUMMARY:Governance Colleges
DESCRIPTION:Governance Colleges\n\n\nDe beweging naar gezondheid en welbevinden krijgt steeds meer vorm in lokale en regionale samenwerkingen. Dat is veelbelovend\, maar het stelt bestuurders ook voor een wezenlijk dilemma. Investeren in maatschappelijke waarde betekent vaak investeren zonder directe opbrengst voor de eigen organisatie. Terwijl vraagstukken rond continuïteit\, financiering en verantwoording zwaar blijven wegen. \n\n\n\nDat spanningsveld vraagt om bestuurlijke moed én om toezicht dat ruimte biedt\, legitimiteit geeft en de dialoog over risicobereidheid actief stimuleert. \n\n\n\nWaar schuurt de spanning tussen maatschappelijke opdracht en organisatiebelang en hoe geeft u daarin richting? \n\n\n\nTijdens het Governance College op 16 juni 2026 gaan we hierover met elkaar in gesprek. Gastsprekers Gabriel van den Brink en Fenna Heyning nemen u mee in filosofische reflecties op dit thema. Aan de hand van praktijkvoorbeelden verdiepen we ons in de dilemma’s die ontstaan wanneer maatschappelijke opgaven en organisatiebelangen niet vanzelf samenvallen. \n\n\n\nU gaat naar huis met nieuwe inzichten én concrete handvatten om deze dilemma’s in uw eigen praktijk te herkennen\, te duiden en bespreekbaar te maken. Wilt u deelnemen of meer informatie? \n\n\n\nAanmelden\n\n\n\nWilt u deelnemen of meer informatie. Bekijk de Governance Colleges website. \n\n\n\n\n\nOver het event\n\n\n\n\n\n\n\n\n\n\nDeel dit event: \n\n\n\n\n\n\n\n\n\nMeld je aan
URL:https://www.nvtz.nl/agenda/governance-colleges-4/
LOCATION:Conferentiehotel Ernst Sillem Hoeve\, Soestdijkerweg 10-b\, Den Dolder\, 3734 MH
ATTACH;FMTTYPE=image/png:https://www.nvtz.nl/wp-content/uploads/2024/03/GC.png
END:VEVENT
BEGIN:VEVENT
DTSTART;TZID=Europe/Amsterdam:20260618T143000
DTEND;TZID=Europe/Amsterdam:20260618T170000
DTSTAMP:20260421T134951
CREATED:20260226T122734Z
LAST-MODIFIED:20260226T144641Z
UID:21555-1781793000-1781802000@www.nvtz.nl
SUMMARY:Algemene Ledenvergadering
DESCRIPTION:Governance Colleges\n\n\nSamenwerking in uitvoering\n\n\n\n\nBij elkaar komen is een begin\, bij elkaar blijven is vooruitgang\, met elkaar samenwerken is succes \nHenry Ford\, ontwerper en fabrikant van de T-Ford\n\n\n\nTijdens de ledenbijeenkomsten in 2025\, die ten grondslag lagen aan De toezichtsvisie ‘Toezien in een veranderende samenleving. Een visie op het intern toezicht van 2030 en verder’ en het strategisch meerjarenplan 2026 – 2030\, gaven onze leden aan behoefte te hebben aan inspirerende voorbeelden. Allemaal leuk en aardig\, dat toezicht dat zich verbreedt van organisatiegericht naar maatschappelijk en netwerkgericht\, maar hoe ziet dat er dan uit in de praktijk? Daarom nemen we u tijdens onze voorjaars-ALV mee in verschillende voorbeelden van gebiedsgerichte samenwerkingsverbanden\, die laten zien hoe samenwerking vorm kan krijgen en stand kan houden én welke rol raden van toezicht daarin kunnen spelen. \n\n\n\nNa een kort huishoudelijk deel aan het begin\, met onder andere de controle van de jaarrekening 2025\, komen verschillende samenwerkingsverbanden aan het woord. Hoe hebben zij de samenwerking vormgegeven\, hoe zorgen ze ervoor dat die samenwerking bestendigd wordt en wat is daarbij de rol van de betrokken raden van toezicht?  \n\n\n\nRond 17:15 sluiten we af met een borrel en een buffet. \n\n\n\nAanmelden\n\n\n\nAanmelden kan via de button op deze pagina. \n\n\n\n\n\nOver het event\n\n\n\n\n\n\n\n\n\n\nDeel dit event: \n\n\n\n\n\n\n\n\n\nMeld je aan
URL:https://www.nvtz.nl/agenda/algemene-ledenvergadering-4/
LOCATION:De Winkel van Sinkel\, Oudegracht 158\, Utrecht\, 3511 AZ
ATTACH;FMTTYPE=image/jpeg:https://www.nvtz.nl/wp-content/uploads/2023/03/ALV-1.jpg
END:VEVENT
BEGIN:VEVENT
DTSTART;TZID=Europe/Amsterdam:20261030T080000
DTEND;TZID=Europe/Amsterdam:20261030T170000
DTSTAMP:20260421T134951
CREATED:20260311T134938Z
LAST-MODIFIED:20260311T135022Z
UID:21801-1793347200-1793379600@www.nvtz.nl
SUMMARY:Regiobijeenkomst Gelderland
DESCRIPTION:Governance Colleges\n\n\nMeer info volgt. \n\n\n\n\n\nOver het event\n\n\n\n\n\n\n\n\n\n\nDeel dit event:
URL:https://www.nvtz.nl/agenda/regiobijeenkomst-gelderland-8/
LOCATION:Volgt
ATTACH;FMTTYPE=image/jpeg:https://www.nvtz.nl/wp-content/uploads/2022/07/Regiobijeenkomst.jpg
END:VEVENT
BEGIN:VEVENT
DTSTART;TZID=Europe/Amsterdam:20261119T130000
DTEND;TZID=Europe/Amsterdam:20261119T200000
DTSTAMP:20260421T134951
CREATED:20260326T072356Z
LAST-MODIFIED:20260402T115739Z
UID:21891-1795093200-1795118400@www.nvtz.nl
SUMMARY:ALV en ledenfestival: Kom in beweging!
DESCRIPTION:Governance Colleges\n\n\nGa met ons mee en Kom in beweging! We verkennen tijdens het NVTZ ledenfestival samen de noodzakelijke beweging van denken in ziekte\, zorg en systemen naar gezondheid\, welbevinden en MEEDOEN. \n\n\n\nDe zorgvraag groeit en is steeds vaker het vangnet voor bredere maatschappelijke opgaven zoals bestaanszekerheid\, wonen en sociale samenhang. Het vraagt om een andere manier van kijken en handelen: meer preventief\, meer integraal en meer samen. \n\n\n\nNa de Algemene Ledenvergadering start het NVTZ Ledenfestival onder leiding van dagvoorzitter Sabine Uitslag. We starten plenair met inspirerende sprekers en zullen daarna dieper op het thema ingaan via de workshopronde. \n\n\n\nIn de avond betoogt Erik Dannenberg\, organisatie adviseur/ toezichthouder/ lid van de raad voor volksgezondheid en samenleving\, dat zorg en welzijn niet zozeer een personeels- of financieringsprobleem hebben\, maar dat het vooral om een organisatievraagstuk gaat. Hij maakt dat visueel door ons mee te nemen naar het voetbalveld. \n\n\n\nHoe zouden we met elkaar het spel beter kunnen spelen? \n\n\n\nMaak uw agenda alvast vrij op 19 november\, tot dan! \n\n\n\n\n\nOver het event\n\n\n\n\n\n\n\n\n\n\nDeel dit event:
URL:https://www.nvtz.nl/agenda/alv-en-ledenfestival-kom-in-beweging/
END:VEVENT
END:VCALENDAR